BEGIN:VCALENDAR
VERSION:2.0
PRODID:-//wp-events-plugin.com//7.2.3.1//EN
TZID:Europe/Paris
X-WR-TIMEZONE:Europe/Paris
BEGIN:VEVENT
UID:40@aghja.eu
DTSTART;TZID=Europe/Paris:20241119T183000
DTEND;TZID=Europe/Paris:20241119T193000
DTSTAMP:20241025T064916Z
URL:https://aghja.eu/events/le-bibliothecaire/
SUMMARY:Le Bibliothécaire à l'Espace Diamant
DESCRIPTION:Idée originale et mise en scène : Marie-Hélène D’Amours J
 eu : Hippolyte Production : Le Gros Orteil (Québec) Coréalisation Aghja 
 et la ville d’Ajaccio Paul-Émile Dumoulin travaille à la Bibliothèque
  de sa ville depuis 25 ans. Il est un bibliothécaire sérieux et méticul
 eux\, mais cache un côté artistique et aventureux. En effet\, lorsqu’i
 l lit\, il devient un véritable acteur\, incarnant les personnages des li
 vres avec des acrobaties\, de l’équilibre\, de la jonglerie\, du break 
 dance et du beat box. Ce spectacle ludique et dynamique met en lumière l
 ’importance de la lecture et de l’imaginaire pour les enfants. La mett
 eure en scène souligne que la lecture favorise le développement du langa
 ge et de l’imaginaire chez les jeunes. Elle décrit la bibliothèque com
 me un lieu calme mais bruyant\, où les mots enfermés derrière les couve
 rtures n’attendent qu’à être lus pour prendre vie. A l’Espace Diam
 ant (programmation Aghja/Diamant)\n\n[gallery link="file" columns="4" size
 ="medium" ids="573\,572\,571\,570\,569\,568\,567\,566" orderby="rand"]\n\n
ATTACH;FMTTYPE=image/jpeg:https://aghja.eu/wp-content/uploads/2024/09/Le-b
 ibliothecaire-7-e1729066704954.webp
CATEGORIES:Théâtre,Théâtre Jeune Public
END:VEVENT
BEGIN:VTIMEZONE
TZID:Europe/Paris
X-LIC-LOCATION:Europe/Paris
BEGIN:STANDARD
DTSTART:20241027T020000
TZOFFSETFROM:+0200
TZOFFSETTO:+0100
TZNAME:CET
END:STANDARD
END:VTIMEZONE
END:VCALENDAR